BEGIN:VCALENDAR
VERSION:2.0
PRODID:-//IGLA London 2023 - ECPv6.2.9//NONSGML v1.0//EN
CALSCALE:GREGORIAN
METHOD:PUBLISH
X-ORIGINAL-URL:https://london2023.org
X-WR-CALDESC:Events for IGLA London 2023
REFRESH-INTERVAL;VALUE=DURATION:PT1H
X-Robots-Tag:noindex
X-PUBLISHED-TTL:PT1H
BEGIN:VTIMEZONE
TZID:Europe/London
BEGIN:DAYLIGHT
TZOFFSETFROM:+0000
TZOFFSETTO:+0100
TZNAME:BST
DTSTART:20230326T010000
END:DAYLIGHT
BEGIN:STANDARD
TZOFFSETFROM:+0100
TZOFFSETTO:+0000
TZNAME:GMT
DTSTART:20231029T010000
END:STANDARD
END:VTIMEZONE
BEGIN:VEVENT
DTSTART;TZID=Europe/London:20230628T090000
DTEND;TZID=Europe/London:20230628T100000
DTSTAMP:20260420T131754
CREATED:20230503T192445Z
LAST-MODIFIED:20230503T200811Z
UID:10000012-1687942800-1687946400@london2023.org
SUMMARY:LGBTQ+ Morning Yoga
DESCRIPTION:Join us for morning yoga in the beautiful Queen Elizabeth Olympic Park. \nOutdoor yoga will be held on Monday\, Tuesday and Wednesday from 9am – 10pm. \n  \nMeet under the canopy of the London Aquatics Centre and walk over for an hour of outdoor yoga facilitated by qualified yoga instructors. Please bring your own yoga mat. \n  \nSessions are charged on a pay-what-you-can basis. All donations go towards supporting the delivery of IGLA London 2023.\nPlease note that we are unable to refund donations. \n  \nYou can also join us for morning yoga at the London LGBTQ+ Community Centre Thursday – Saturday here. \nAbout the facilitators:\nMorning yoga is run by a rotating group of LGBTQ+ volunteers\, all of whom are professionally qualified yoga instructors.
URL:https://london2023.org/event/lgbtq-morning-yoga/2023-06-28/
LOCATION:Queen Elizabeth Olympic Park\, United Kingdom
CATEGORIES:Community Event
ATTACH;FMTTYPE=image/jpeg:https://london2023.org/wp-content/uploads/2023/05/Morning-Yoga-19-6.jpg
ORGANIZER;CN="IGLA London 2023":MAILTO:tickets@london2023.org
END:VEVENT
BEGIN:VEVENT
DTSTART;TZID=Europe/London:20230628T143000
DTEND;TZID=Europe/London:20230628T170000
DTSTAMP:20260420T131754
CREATED:20230421T174911Z
LAST-MODIFIED:20230421T221016Z
UID:10000003-1687962600-1687971600@london2023.org
SUMMARY:BBQ at Millwall Docks
DESCRIPTION:To celebrate the open water at the London IGLA 2023 Championships OTS London Swimming would like to invite you to a afternoon BBQ at the open water venue.  \nThe open water event will be running from 9am till around 2pm and then we invite everyone to come and join us for a BBQ at the docklands. \nAddress: 235A Westferry Rd\, London E14 3QS \nDoors open from 1430.  \nThere will be an open bar also. \nThis event is open to all competitors and their plus 1’s. \nPlease find the menu.  \n\nBBQ\n¼ Pound Grilled Beef Burger\n¼ Pound Vegetarian Burger\nGrilled Sausage\nChicken thigh\nZesty Grilled Calamari\nMacaroni and Cheese\nMediterranean Tomato Pasta Salad\nSeasonal Green Salad\nPotato Salad with Spring Onion in Mayonnaise\nSeasonal Fruit Platter\nBurger Buns\nSauces and Condiments
URL:https://london2023.org/event/bbq-at-millwall-docks/
LOCATION:Docklands Sailing and Watersports Centre\, 235A Westferry Road\, London\, E14 3QS\, United Kingdom
CATEGORIES:Community Event,Socials
ATTACH;FMTTYPE=image/png:https://london2023.org/wp-content/uploads/2023/04/2Artboard-3.png
ORGANIZER;CN="IGLA London 2023":MAILTO:tickets@london2023.org
END:VEVENT
BEGIN:VEVENT
DTSTART;TZID=Europe/London:20230628T183000
DTEND;TZID=Europe/London:20230628T203000
DTSTAMP:20260420T131754
CREATED:20230615T150205Z
LAST-MODIFIED:20230615T150205Z
UID:10000031-1687977000-1687984200@london2023.org
SUMMARY:IGLA x Out for Sport Committee Training Series: Volunteer Experience and Development
DESCRIPTION:  \nIn partnership with Out For Sport\, throughout the week of the championships\, a series of training sessions and workshops will be delivered open to all IGLA and Out For Sport members. \nVolunteer Experience and Development \nDeliver by our friends at Club Matters\, by the end of this workshop\, delegates will be able to: \n\n\nDevelop a positive culture of volunteering within a club/organisation environment\nIdentify how to develop the volunteer’s experience\nIdentify top tips in recruiting\, retaining and rewarding volunteers\nDevelop an action plan to improve their club volunteer experience\nUnderstand how to access further information to help improve the volunteer experience\n\n  \nAll sessions are available to a maximum of 2 members per club.
URL:https://london2023.org/event/igla-x-out-for-sport-committee-training-series-volunteer-experience-and-development/
LOCATION:London Aquatics Centre\, United Kingdom
CATEGORIES:Community Event,Talks
ATTACH;FMTTYPE=image/png:https://london2023.org/wp-content/uploads/2023/06/Artboard-22_1.png
ORGANIZER;CN="IGLA London 2023":MAILTO:tickets@london2023.org
END:VEVENT
END:VCALENDAR