BEGIN:VCALENDAR
VERSION:2.0
PRODID:-//IGLA London 2023 - ECPv6.2.9//NONSGML v1.0//EN
CALSCALE:GREGORIAN
METHOD:PUBLISH
X-WR-CALNAME:IGLA London 2023
X-ORIGINAL-URL:https://london2023.org
X-WR-CALDESC:Events for IGLA London 2023
REFRESH-INTERVAL;VALUE=DURATION:PT1H
X-Robots-Tag:noindex
X-PUBLISHED-TTL:PT1H
BEGIN:VTIMEZONE
TZID:Europe/London
BEGIN:DAYLIGHT
TZOFFSETFROM:+0000
TZOFFSETTO:+0100
TZNAME:BST
DTSTART:20230326T010000
END:DAYLIGHT
BEGIN:STANDARD
TZOFFSETFROM:+0100
TZOFFSETTO:+0000
TZNAME:GMT
DTSTART:20231029T010000
END:STANDARD
END:VTIMEZONE
BEGIN:VEVENT
DTSTART;TZID=Europe/London:20230625T120000
DTEND;TZID=Europe/London:20230625T130000
DTSTAMP:20260420T130217
CREATED:20230503T192503Z
LAST-MODIFIED:20230503T192503Z
UID:10000007-1687694400-1687698000@london2023.org
SUMMARY:LGBTQ+ Community Meditation
DESCRIPTION:We are delighted to partner with the London LGBTQ+ Community Centre to bring you this community meditation session. \n  \nThe sessions will feature a variety of mindfulness\, loving-kindness and wisdom meditations. There’ll also be sharing & connecting\, poetry and more. Through this\, we’ll cultivate a warm awareness of our own experience and go beyond the individual to explore how we can grow and flourish as a community. There’ll also be the option to socialise in the cafe area after. \n  \nNo prior meditation experience is required. Also suitable for those who are trying to establish a regular practice within a supportive environment. \n  \nSessions are free\, with an optional donation towards establishing a permanent LGBTQ+ community centre. \n  \nPlease ensure that you register before attending.
URL:https://london2023.org/event/lgbtq-community-meditation/2023-06-25/
LOCATION:London LGBTQ+ Community Centre\, 60-62 Hopton Street\, Blackfriars\, London\, SE1 9JH\, United Kingdom
CATEGORIES:Community Event
ATTACH;FMTTYPE=image/jpeg:https://london2023.org/wp-content/uploads/2023/05/Community-Meditation-19-6.jpg
ORGANIZER;CN="IGLA London 2023":MAILTO:tickets@london2023.org
END:VEVENT
BEGIN:VEVENT
DTSTART;TZID=Europe/London:20230625T160000
DTEND;TZID=Europe/London:20230625T200000
DTSTAMP:20260420T130217
CREATED:20230619T234805Z
LAST-MODIFIED:20230619T234805Z
UID:10000034-1687708800-1687723200@london2023.org
SUMMARY:Super Sunday Social
DESCRIPTION:What better way to see out the first day of the championships than a late afternoon social at Barge East. \nBarge East is a unique bar & restaurant on a 118 year old Dutch barge on the canal in Hackney Wick\, offering stunning river views of London’s incredible skyline and the Queen Elizabeth Olympic Park. \nJoin us in the canal-side gardens\, one of the largest outdoor dining and drinking spaces in London\, bath in the sun in Summer with frozen cocktails\, chilled drinks\, and mouth-watering street food. \nWith an area booked out for IGLA\, you can socialise with your fellow competitors; enjoying some of the best venues London in summer has to offer.
URL:https://london2023.org/event/super-sunday-social/
LOCATION:Barge East Gardens & Terrace\, United Kingdom
CATEGORIES:Community Event,Socials
ATTACH;FMTTYPE=image/jpeg:https://london2023.org/wp-content/uploads/2023/06/Artboard-35.jpg
ORGANIZER;CN="IGLA London 2023":MAILTO:tickets@london2023.org
END:VEVENT
END:VCALENDAR