BEGIN:VCALENDAR
VERSION:2.0
PRODID:-//IGLA London 2023 - ECPv6.2.9//NONSGML v1.0//EN
CALSCALE:GREGORIAN
METHOD:PUBLISH
X-ORIGINAL-URL:https://london2023.org
X-WR-CALDESC:Events for IGLA London 2023
REFRESH-INTERVAL;VALUE=DURATION:PT1H
X-Robots-Tag:noindex
X-PUBLISHED-TTL:PT1H
BEGIN:VTIMEZONE
TZID:Europe/London
BEGIN:DAYLIGHT
TZOFFSETFROM:+0000
TZOFFSETTO:+0100
TZNAME:BST
DTSTART:20230326T010000
END:DAYLIGHT
BEGIN:STANDARD
TZOFFSETFROM:+0100
TZOFFSETTO:+0000
TZNAME:GMT
DTSTART:20231029T010000
END:STANDARD
END:VTIMEZONE
BEGIN:VEVENT
DTSTART;TZID=Europe/London:20230701T120000
DTEND;TZID=Europe/London:20230701T200000
DTSTAMP:20260420T090028
CREATED:20230504T204406Z
LAST-MODIFIED:20230504T204406Z
UID:10000026-1688212800-1688241600@london2023.org
SUMMARY:Pride in London
DESCRIPTION:Join thousands of people from all walks of life for the UK largest pride celebrating the LGBTQ+ community in all its diversity. The parade will kick off at 12pm from Portland Place and weave its way through central London\, passing iconic landmarks such as Hyde Park and Piccadilly Circus\, before ending at Trafalgar Square where there will be a main stage with live performances. \nAfter the parade\, continue the celebrations at the Pride in London Festival in Trafalgar Square. This free event will feature live music\, dance performances\, and speeches from inspiring LGBTQ+ activists and community leaders. There will also be food and drink vendors\, community stalls\, and a family area with activities for all ages.
URL:https://london2023.org/event/pride-in-london/
CATEGORIES:Community Event
ATTACH;FMTTYPE=image/png:https://london2023.org/wp-content/uploads/2023/05/283146614_8513165625376282_6946480657883880927_n.png
ORGANIZER;CN="IGLA London 2023":MAILTO:tickets@london2023.org
END:VEVENT
BEGIN:VEVENT
DTSTART;TZID=Europe/London:20230702T120000
DTEND;TZID=Europe/London:20230702T130000
DTSTAMP:20260420T090028
CREATED:20230503T192503Z
LAST-MODIFIED:20230503T192503Z
UID:10000008-1688299200-1688302800@london2023.org
SUMMARY:LGBTQ+ Community Meditation
DESCRIPTION:We are delighted to partner with the London LGBTQ+ Community Centre to bring you this community meditation session. \n  \nThe sessions will feature a variety of mindfulness\, loving-kindness and wisdom meditations. There’ll also be sharing & connecting\, poetry and more. Through this\, we’ll cultivate a warm awareness of our own experience and go beyond the individual to explore how we can grow and flourish as a community. There’ll also be the option to socialise in the cafe area after. \n  \nNo prior meditation experience is required. Also suitable for those who are trying to establish a regular practice within a supportive environment. \n  \nSessions are free\, with an optional donation towards establishing a permanent LGBTQ+ community centre. \n  \nPlease ensure that you register before attending.
URL:https://london2023.org/event/lgbtq-community-meditation/2023-07-02/
LOCATION:London LGBTQ+ Community Centre\, 60-62 Hopton Street\, Blackfriars\, London\, SE1 9JH\, United Kingdom
CATEGORIES:Community Event
ATTACH;FMTTYPE=image/jpeg:https://london2023.org/wp-content/uploads/2023/05/Community-Meditation-19-6.jpg
ORGANIZER;CN="IGLA London 2023":MAILTO:tickets@london2023.org
END:VEVENT
END:VCALENDAR